BEGIN:VCALENDAR
VERSION:2.0
PRODID:-//wp-events-plugin.com//7.2.3.1//EN
TZID:Europe/Berlin
X-WR-TIMEZONE:Europe/Berlin
BEGIN:VEVENT
UID:898@xn--zeitsprnge-geb.info
DTSTART;TZID=Europe/Berlin:20250907T140000
DTEND;TZID=Europe/Berlin:20250907T154500
DTSTAMP:20250611T064200Z
URL:https://xn--zeitsprnge-geb.info/events/geheimrat-gartenmeister-gavotte
 -und-grosse-fontaene-nur-nach-anmeldung-11/
SUMMARY:Geheimrat\, Gartenmeister\, Gavotte und Große Fontäne - nur nach 
 Anmeldung
DESCRIPTION:\n\nFoto: Hassan Mahramzadeh\nGeheimrat\, Gartenmeister\, Gavot
 te und Große Fontäne\nEin Rundgang durch den Barockgarten mit Gottfried 
 Wilhelm Leibniz (Rainer Künnecke)\, Gartenmeister Martin Charbonnier\, Lu
 ise Freifrau von Degenfeld und einer Fontänenexpertin\nDer Universalgeleh
 rte und Geheimrat Gottfried Wilhelm Leibniz empfängt Sie und führt durch
  die repräsentative barocke Gartenanlage.\nDer Garten als Ort der Repräs
 entation des Kurfürsten ist ein großer Festsaal für seine Gäste. Und s
 o gibt es viel Gelegenheit zur Unterhaltung….\nBei unserem gemeinsamen R
 undgang trifft Geheimrat Leibniz auf den Gartenmeister Martin Charbonnier\
 , der die Gartenanlage gerade inspiziert\, und die Gestaltungsprinzipien d
 es Großen Gartens in Herrenhausen erläutert.\nDie Großhofmeisterin von 
 Kurfürstin Sophie wird einen Einblick in das Hofleben und die Vergnügung
 en im Großen Gartens gewähren. Vielleicht lässt sie sich auch zu einem 
 gemeinsamen Tänzchen mit Geheimrat Leibniz hinreißen.\nZum Abschluss wer
 den Sie aus berufenem Mund erfahren\, welche Schwierigkeiten es bei der An
 lage der Großen Fontäne gab.\nSeien sie gespannt!\nAnmeldung unter: 0152
 3 – 17 498 33 oder mail@zeitspruenge.info\nTreffpunkt: Eingang Garten im
  Schloss Herrenhausen\nTeilnahme: 25\,00 €\nzuzüglich Garteneintritt: 5
 \,00 €  ! ACHTUNG: Die Karten für den Garteneintritt besorgen wir und 
 sie sind auch vor Ort an uns zu entrichten!\nFür Gruppen können auch sep
 arate Termine vereinbart werden unter:\n\n\n01523 – 17 498 33 oder e-mai
 l: mail@zeitspruenge.info\n\nWeitere Termine:\nSo. 21. September - 14:00\
 nSo. 12. Oktober - 14:00\n\n&nbsp\;\n
ATTACH;FMTTYPE=image/jpeg:https://xn--zeitsprnge-geb.info/wp-content/uploa
 ds/2021/06/GeheimratGartenmeisterFoto-Hassan-Mahramzadeh.jpeg
LOCATION:Eingang Großer Garten im Schloss Herrenhausen\, Herrenhäuser Str
 . 5\, Hannover\, Niedersachsen\, 30519\, Deutschland
X-APPLE-STRUCTURED-LOCATION;VALUE=URI;X-ADDRESS=Herrenhäuser Str. 5\, Hann
 over\, Niedersachsen\, 30519\, Deutschland;X-APPLE-RADIUS=100;X-TITLE=Eing
 ang Großer Garten im Schloss Herrenhausen:geo:0,0
END:VEVENT
BEGIN:VTIMEZONE
TZID:Europe/Berlin
X-LIC-LOCATION:Europe/Berlin
BEGIN:DAYLIGHT
DTSTART:20250330T030000
TZOFFSETFROM:+0100
TZOFFSETTO:+0200
TZNAME:CEST
END:DAYLIGHT
END:VTIMEZONE
END:VCALENDAR