BEGIN:VCALENDAR
VERSION:2.0
PRODID:-//wp-events-plugin.com//7.2.3.1//EN
TZID:Europe/Berlin
X-WR-TIMEZONE:Europe/Berlin
BEGIN:VEVENT
UID:872@xn--zeitsprnge-geb.info
DTSTART;TZID=Europe/Berlin:20241127T200000
DTEND;TZID=Europe/Berlin:20241127T221500
DTSTAMP:20241115T231553Z
URL:https://xn--zeitsprnge-geb.info/events/ich-fritz-haarmann-das-original
 -19/
SUMMARY:Ich\, Fritz Haarmann - das Original
DESCRIPTION:Fritz Haarmann ist in Hannover als Serienmörder bekannt\, der 
 in den 20er Jahren zahlreiche junge Männer umgebracht hat.\nWer kennt abe
 r die Lebensgeschichte des „Vampirs von Hannover“\, wie er auch genann
 t wurde\, tatsächlich?\nIn seinem Theaterstück stellt Rainer Künnecke 
 – in der Rolle des Fritz Haarmann – dessen Lebensgeschichte auf beeind
 ruckende und verstörende Weise dar. Die Geschichte reicht von der Kindhei
 t bis zu seiner Hinrichtung im Jahr 1925 und führt in die 1920er Jahre in
  Hannover.\nDabei gelingt es dem Schauspieler durch eine authentische und 
 intensive Darstellung das Publikum in seinen Bann zu ziehen!\nDas Stück h
 at jetzt schon Kultstatus in Hannover!\n\n„Ein intensives Kammerspiel\, 
 das nachwirkt und Denkanstöße gibt. Sehens- und erlebenswert!“ urteilt
 e die Neue Presse Hannover.\n\nmarlene\, Prinzenstr. 10\, 30159 Hannover\n
 \nMi. 27. November 2024\n\nBeginn 20:00\n\nKartenbestellung\n\n \n\nFotos:
  Achim Beinsen
ATTACH;FMTTYPE=image/jpeg:https://xn--zeitsprnge-geb.info/wp-content/uploa
 ds/2023/11/P8260050-f.jpeg
LOCATION:marlene\, Prinzenstr. 10\, Hannover\, 30159\, Deutschland
X-APPLE-STRUCTURED-LOCATION;VALUE=URI;X-ADDRESS=Prinzenstr. 10\, Hannover\,
  30159\, Deutschland;X-APPLE-RADIUS=100;X-TITLE=marlene:geo:0,0
END:VEVENT
BEGIN:VTIMEZONE
TZID:Europe/Berlin
X-LIC-LOCATION:Europe/Berlin
BEGIN:STANDARD
DTSTART:20241027T020000
TZOFFSETFROM:+0200
TZOFFSETTO:+0100
TZNAME:CET
END:STANDARD
END:VTIMEZONE
END:VCALENDAR